BEGIN:VCALENDAR
VERSION:2.0
PRODID:-//淡路市立サンシャインホール｜最大客席350席。淡路市東浦にある多目的ホール - ECPv5.8.0//NONSGML v1.0//EN
CALSCALE:GREGORIAN
METHOD:PUBLISH
X-WR-CALNAME:淡路市立サンシャインホール｜最大客席350席。淡路市東浦にある多目的ホール
X-ORIGINAL-URL:https://sunshinehall.jp
X-WR-CALDESC:淡路市立サンシャインホール｜最大客席350席。淡路市東浦にある多目的ホール のイベント
BEGIN:VTIMEZONE
TZID:Asia/Tokyo
BEGIN:STANDARD
TZOFFSETFROM:+0900
TZOFFSETTO:+0900
TZNAME:JST
DTSTART:20250101T000000
END:STANDARD
END:VTIMEZONE
BEGIN:VEVENT
DTSTART;TZID=Asia/Tokyo:20250721T133000
DTEND;TZID=Asia/Tokyo:20250721T160000
DTSTAMP:20260424T170342
CREATED:20250702T075606Z
LAST-MODIFIED:20250702T075606Z
UID:3349-1753104600-1753113600@sunshinehall.jp
SUMMARY:第4回片山葬祭無料上映会
DESCRIPTION:第4回片山葬祭無料上映会\n\n上映作品：「お終活 再春！人生ラプソディ」\n時間：13：30（開場13：00）\n入場料：無料（先着順）\n主催・問い合わせ：片山葬祭　0120-84-1232
URL:https://sunshinehall.jp/event/%e7%ac%ac4%e5%9b%9e%e7%89%87%e5%b1%b1%e8%91%ac%e7%a5%ad%e7%84%a1%e6%96%99%e4%b8%8a%e6%98%a0%e4%bc%9a
END:VEVENT
END:VCALENDAR