BEGIN:VCALENDAR
VERSION:2.0
PRODID:-//淡路市立サンシャインホール｜最大客席350席。淡路市東浦にある多目的ホール - ECPv5.8.0//NONSGML v1.0//EN
CALSCALE:GREGORIAN
METHOD:PUBLISH
X-WR-CALNAME:淡路市立サンシャインホール｜最大客席350席。淡路市東浦にある多目的ホール
X-ORIGINAL-URL:https://sunshinehall.jp
X-WR-CALDESC:淡路市立サンシャインホール｜最大客席350席。淡路市東浦にある多目的ホール のイベント
BEGIN:VTIMEZONE
TZID:Asia/Tokyo
BEGIN:STANDARD
TZOFFSETFROM:+0900
TZOFFSETTO:+0900
TZNAME:JST
DTSTART:20250101T000000
END:STANDARD
END:VTIMEZONE
BEGIN:VEVENT
DTSTART;TZID=Asia/Tokyo:20250719T133000
DTEND;TZID=Asia/Tokyo:20250719T203000
DTSTAMP:20260424T134510
CREATED:20250702T073754Z
LAST-MODIFIED:20250702T073754Z
UID:3344-1752931800-1752957000@sunshinehall.jp
SUMMARY:第19回淡路市人権シネマの集い
DESCRIPTION:第19回淡路市人権シネマの集い\n\n上映作品：「夜明けのすべて」\n時間：昼の部　13:30~、夜の部　18:00~　\n　　　※入場無料（申込不要）\n主催・問い合わせ：\n淡路市市民生活部市民人権課\n0799-64-2521（直通）
URL:https://sunshinehall.jp/event/%e7%ac%ac19%e5%9b%9e%e6%b7%a1%e8%b7%af%e5%b8%82%e4%ba%ba%e6%a8%a9%e3%82%b7%e3%83%8d%e3%83%9e%e3%81%ae%e9%9b%86%e3%81%84
END:VEVENT
END:VCALENDAR