BEGIN:VCALENDAR
VERSION:2.0
PRODID:-//淡路市立サンシャインホール｜最大客席350席。淡路市東浦にある多目的ホール - ECPv5.8.0//NONSGML v1.0//EN
CALSCALE:GREGORIAN
METHOD:PUBLISH
X-WR-CALNAME:淡路市立サンシャインホール｜最大客席350席。淡路市東浦にある多目的ホール
X-ORIGINAL-URL:https://sunshinehall.jp
X-WR-CALDESC:淡路市立サンシャインホール｜最大客席350席。淡路市東浦にある多目的ホール のイベント
BEGIN:VTIMEZONE
TZID:Asia/Tokyo
BEGIN:STANDARD
TZOFFSETFROM:+0900
TZOFFSETTO:+0900
TZNAME:JST
DTSTART:20250101T000000
END:STANDARD
END:VTIMEZONE
BEGIN:VEVENT
DTSTART;TZID=Asia/Tokyo:20250706T133000
DTEND;TZID=Asia/Tokyo:20250706T153000
DTSTAMP:20260424T201451
CREATED:20250702T071602Z
LAST-MODIFIED:20250702T071602Z
UID:3337-1751808600-1751815800@sunshinehall.jp
SUMMARY:“社会を明るくする運動”淡路市推進大会
DESCRIPTION:
URL:https://sunshinehall.jp/event/%e7%a4%be%e4%bc%9a%e3%82%92%e6%98%8e%e3%82%8b%e3%81%8f%e3%81%99%e3%82%8b%e9%81%8b%e5%8b%95%e6%b7%a1%e8%b7%af%e5%b8%82%e6%8e%a8%e9%80%b2%e5%a4%a7%e4%bc%9a
END:VEVENT
END:VCALENDAR