BEGIN:VCALENDAR
VERSION:2.0
PRODID:-//淡路市立サンシャインホール｜最大客席350席。淡路市東浦にある多目的ホール - ECPv5.8.0//NONSGML v1.0//EN
CALSCALE:GREGORIAN
METHOD:PUBLISH
X-WR-CALNAME:淡路市立サンシャインホール｜最大客席350席。淡路市東浦にある多目的ホール
X-ORIGINAL-URL:https://sunshinehall.jp
X-WR-CALDESC:淡路市立サンシャインホール｜最大客席350席。淡路市東浦にある多目的ホール のイベント
BEGIN:VTIMEZONE
TZID:Asia/Tokyo
BEGIN:STANDARD
TZOFFSETFROM:+0900
TZOFFSETTO:+0900
TZNAME:JST
DTSTART:20250101T000000
END:STANDARD
END:VTIMEZONE
BEGIN:VEVENT
DTSTART;VALUE=DATE:20250727
DTEND;VALUE=DATE:20250728
DTSTAMP:20260424T222257
CREATED:20250617T015839Z
LAST-MODIFIED:20250727T062819Z
UID:3286-1753574400-1753660799@sunshinehall.jp
SUMMARY:県民芸術劇場　人形劇「11ぴきのねこ」
DESCRIPTION:県民芸術劇場　人形劇「11ぴきのねこ」\n\n世代を超えて愛される人気絵本シリーズの第１作「11ぴきのねこ」が\n人形劇になってやってきます。\n小さなお子様から楽しめるかわいいおはなし。\nねこたちの愉快な大冒険を人形劇団クラルテが演じます。\nなお、通常の客席に加え、靴を脱いでくつろいで観劇していただけるよう、\n客席前方にはフラットスペースもご用意しています。\nぜひご家族揃ってご観劇ください。\n\n開催日…2025年7月27日（日）\n時　間…11：00開演 ／ 10：40開場\n　　　　公演時間　約45分(休憩なし)\n入場料…全席自由席\n　　　・親子ペア…特別価格500円\n　　　　(大人1枚＋小学生以下1枚)\n　　　・大人…700円　・小学生以下…300円\n\n《チケット販売場所》　※6月20日(金)より販売開始\n　・淡路市立サンシャインホール\n　　　℡ 0799-74-0250（10：00～18：30　木曜・祝翌日休館）\n　・淡路市立しづかホール\n　　　℡ 0799-62-2001（9：00～17：30　火曜休館）\n\nお問合せ先…\n　淡路市立サンシャインホール\n　　℡　0799-74-0250\n\n※この「県民芸術劇場」は、優れた舞台芸術をより多くの方々に身近に鑑賞していただくため、\n公益財団法人兵庫県芸術文化協会が県の補助を受けて、\n市町等地元主催者とともにその経費の一部を負担して実施するものです。
URL:https://sunshinehall.jp/event/%e7%9c%8c%e6%b0%91%e8%8a%b8%e8%a1%93%e5%8a%87%e5%a0%b4%e3%80%80%e4%ba%ba%e5%bd%a2%e5%8a%87%e3%80%8c11%e3%81%b4%e3%81%8d%e3%81%ae%e3%81%ad%e3%81%93%e3%80%8d-2
ATTACH;FMTTYPE=image/jpeg:https://sunshinehall.jp/mg/wp-content/uploads/2025/06/250727_人形劇団クラルテ表面-scaled.jpg
END:VEVENT
END:VCALENDAR