BEGIN:VCALENDAR
VERSION:2.0
PRODID:-//淡路市立サンシャインホール｜最大客席350席。淡路市東浦にある多目的ホール - ECPv5.8.0//NONSGML v1.0//EN
CALSCALE:GREGORIAN
METHOD:PUBLISH
X-WR-CALNAME:淡路市立サンシャインホール｜最大客席350席。淡路市東浦にある多目的ホール
X-ORIGINAL-URL:https://sunshinehall.jp
X-WR-CALDESC:淡路市立サンシャインホール｜最大客席350席。淡路市東浦にある多目的ホール のイベント
BEGIN:VTIMEZONE
TZID:Asia/Tokyo
BEGIN:STANDARD
TZOFFSETFROM:+0900
TZOFFSETTO:+0900
TZNAME:JST
DTSTART:20240101T000000
END:STANDARD
END:VTIMEZONE
BEGIN:VEVENT
DTSTART;TZID=Asia/Tokyo:20241020T100000
DTEND;TZID=Asia/Tokyo:20241020T170000
DTSTAMP:20260425T235752
CREATED:20240117T064110Z
LAST-MODIFIED:20240117T064110Z
UID:2382-1729418400-1729443600@sunshinehall.jp
SUMMARY:フォトクラブ岩屋　写真展
DESCRIPTION:2階ギャラリーにて開催\n\n展示時間10：00～18：00
URL:https://sunshinehall.jp/event/%e3%83%95%e3%82%a9%e3%83%88%e3%82%af%e3%83%a9%e3%83%96%e5%b2%a9%e5%b1%8b%e3%80%80%e5%86%99%e7%9c%9f%e5%b1%95-11
END:VEVENT
END:VCALENDAR