BEGIN:VCALENDAR
VERSION:2.0
PRODID:-//淡路市立サンシャインホール｜最大客席350席。淡路市東浦にある多目的ホール - ECPv5.8.0//NONSGML v1.0//EN
CALSCALE:GREGORIAN
METHOD:PUBLISH
X-WR-CALNAME:淡路市立サンシャインホール｜最大客席350席。淡路市東浦にある多目的ホール
X-ORIGINAL-URL:https://sunshinehall.jp
X-WR-CALDESC:淡路市立サンシャインホール｜最大客席350席。淡路市東浦にある多目的ホール のイベント
BEGIN:VTIMEZONE
TZID:Asia/Tokyo
BEGIN:STANDARD
TZOFFSETFROM:+0900
TZOFFSETTO:+0900
TZNAME:JST
DTSTART:20250101T000000
END:STANDARD
END:VTIMEZONE
BEGIN:VEVENT
DTSTART;TZID=Asia/Tokyo:20250623T110000
DTEND;TZID=Asia/Tokyo:20250623T140000
DTSTAMP:20260425T082652
CREATED:20250415T064936Z
LAST-MODIFIED:20250415T064936Z
UID:3128-1750676400-1750687200@sunshinehall.jp
SUMMARY:パソコンえこ販　展示販売会
DESCRIPTION:リサイクルパソコンの展示販売\n\n２F ギャラリーにて開催\n\n主催...(株)蒲郡ジムキ
URL:https://sunshinehall.jp/event/%e3%83%91%e3%82%bd%e3%82%b3%e3%83%b3%e3%81%88%e3%81%93%e8%b2%a9%e3%80%80%e5%b1%95%e7%a4%ba%e8%b2%a9%e5%a3%b2%e4%bc%9a
END:VEVENT
END:VCALENDAR