BEGIN:VCALENDAR
VERSION:2.0
PRODID:-//淡路市立サンシャインホール｜最大客席350席。淡路市東浦にある多目的ホール - ECPv5.8.0//NONSGML v1.0//EN
CALSCALE:GREGORIAN
METHOD:PUBLISH
X-WR-CALNAME:淡路市立サンシャインホール｜最大客席350席。淡路市東浦にある多目的ホール
X-ORIGINAL-URL:https://sunshinehall.jp
X-WR-CALDESC:淡路市立サンシャインホール｜最大客席350席。淡路市東浦にある多目的ホール のイベント
BEGIN:VTIMEZONE
TZID:Asia/Tokyo
BEGIN:STANDARD
TZOFFSETFROM:+0900
TZOFFSETTO:+0900
TZNAME:JST
DTSTART:20250101T000000
END:STANDARD
END:VTIMEZONE
BEGIN:VEVENT
DTSTART;VALUE=DATE:20250629
DTEND;VALUE=DATE:20250630
DTSTAMP:20260425T032000
CREATED:20250420T015325Z
LAST-MODIFIED:20250420T015325Z
UID:3203-1751155200-1751241599@sunshinehall.jp
SUMMARY:ギャラリー/予約あり
DESCRIPTION:
URL:https://sunshinehall.jp/event/%e3%82%ae%e3%83%a3%e3%83%a9%e3%83%aa%e3%83%bc-%e4%ba%88%e7%b4%84%e3%81%82%e3%82%8a-29
END:VEVENT
END:VCALENDAR