BEGIN:VCALENDAR
VERSION:2.0
PRODID:-//淡路市立サンシャインホール｜最大客席350席。淡路市東浦にある多目的ホール - ECPv5.8.0//NONSGML v1.0//EN
CALSCALE:GREGORIAN
METHOD:PUBLISH
X-WR-CALNAME:淡路市立サンシャインホール｜最大客席350席。淡路市東浦にある多目的ホール
X-ORIGINAL-URL:https://sunshinehall.jp
X-WR-CALDESC:淡路市立サンシャインホール｜最大客席350席。淡路市東浦にある多目的ホール のイベント
BEGIN:VTIMEZONE
TZID:Asia/Tokyo
BEGIN:STANDARD
TZOFFSETFROM:+0900
TZOFFSETTO:+0900
TZNAME:JST
DTSTART:20250101T000000
END:STANDARD
END:VTIMEZONE
BEGIN:VEVENT
DTSTART;TZID=Asia/Tokyo:20250715T100000
DTEND;TZID=Asia/Tokyo:20250715T160000
DTSTAMP:20260424T151627
CREATED:20250512T010721Z
LAST-MODIFIED:20250512T010721Z
UID:3246-1752573600-1752595200@sunshinehall.jp
SUMMARY:ウィッグ(かつら)展示・販売
DESCRIPTION:ウィッグ(かつら)展示・販売\nホールにて開催\n\n主催者...株式会社ユキ\n　　　　052-459-7030
URL:https://sunshinehall.jp/event/%e3%82%a6%e3%82%a3%e3%83%83%e3%82%b0%e3%81%8b%e3%81%a4%e3%82%89%e5%b1%95%e7%a4%ba%e3%83%bb%e8%b2%a9%e5%a3%b2-2
END:VEVENT
END:VCALENDAR